Workbook

Sheet Foglio1
J1: Allegato 1
B2: #VALUE!
B3: PROGETTO INDIVIDUALIZZATO E ATTESTAZIONE DI PRESA IN CARICO DELLE DONNE VITTIME DI VIOLENZA E DEI LORO FIGLI, DEGLI ORFANI DI DONNE VITTIME DI FEMMINICIDIO - ANNUALITÀ 2026
B4: (compilare a cura del legale rappresentante del Centro antiviolenza o Casa di Accoglienza/Rifugio o dell’Ambito Territoriale)
B6: Il/La sottoscritto/a | H6: Codice Fiscale
B7: in qualità di legale rappresentante del/la:
B8: FALSE | C8: Centro Antiviolenza
C9: oppure
B10: FALSE | C10: Casa di Accoglienza / Rifugio
B12: FALSE | C12: Accreditato dall’Ambito Territoriale | F12: in virtù di provvedimento del
C13: oppure
B14: FALSE | C14: Gestito dall’Ambito Territoriale
B16: ATTESTA CHE
B18: la sig.ra | E18: Nata a | I18: il
B19: Codice Fiscale | E19: Residente in | H19: Alla via
B20: Cittadinanza
B21: FALSE | C21: è inserita in un percorso di emancipazione e autonomia intrapreso presso l’indicato/a Centro Antiviolenza / Casa di Accoglienza e/o Rifugio per la fuoriuscita dalla violenza di genere
B23: FALSE | C23: è in carico presso l’indicato/a Centro Antiviolenza / Casa di Accoglienza e/o Rifugio dal | I23: (data di presa in carico)
D25: =IF($E$29=0,"",IF(SUM($E$30:$E$35)=$E$29,"OK",IF(SUM($E$30:$E$35)<$E$29,"ATTENZIONE: TOTALE INFERIORE DI € "&TEXT($E$29-SUM($E$30:$E$35),"#.##0,00"),"ATTENZIONE: TOTALE SUPERIORE DI € "&TEXT(SUM($E$30:$E$35)-$E$29,"#.##0,00")))) | E25: =IF(E28="","NO","SI") -> NO
B26: PROGETTO INDIVIDUALIZZATO | E26: Beneficiari (inserire nome e cognome della donna o del figlio beneficiario del contributo)
E27: Donna vittima di violenza | F27: Figlio / orfano 1 | G27: Figlio / orfano 2 | H27: Figlio / orfano 3 | I27: Figlio / orfano 4 | J27: Figlio / orfano 5
D28: Nome e cognome:
B29: Linea A.1 (max 3.000,00 €) | C29: Importo Totale richiesto (NB: Inserire l'importo indicato in Piattaforma) | E29: 0 | F29: =IF(SUM(E30:E36)>E29,"Attenzione, il totale delle spese e del contributo forfettario del 10% è superiore all'importo richiesto di € "&TEXT(SUM(E30:E36)-E29,"#.##0,00"),IF(SUM(E30:E36)<E29,"Attenzione, il totale delle spese e del contributo forfettario del 10% è inferiore all'importo richiesto di € "&TEXT(E29-SUM(E30:E36),"#.##0,00")&". Valorizzare le voci fino alla concorrenza dell'importo richiesto",""))
C30: Contributo forfettario per spese personali, pari massimo al 10% dell'importo richiesto di cui sopra | E30: 0
C31: Spese da rendicontare | D31: Sostegno abitativo e autonomia residenziale | E31: 0
D32: Tutela, protezione e accesso alla giustizia (Spese legali) | E32: 0
D33: Spese mediche (ivi incluso supporto medico, sanitario specialistico e psicoterapeutico intensivo per il superamento dei traumi) | E33: 0
D34: Benessere e qualità della vita (spese per attività sportive) | E34: 0
D35: Empowerment personale (spese per il conseguimento della patente di guida e/o abilitazioni varie) | E35: 0
D36: Sostegno per attività di istruzione e formazione | E36: 0
C37: Totale Linea A.1 | E37: =SUM(E30:E36) -> 0
B38: Linea A.2 (max. 3.000,00 €) | C38: Attività di istruzione e informazione per inserimento e re-inserimento lavorativo | E38: 0 | F38: Figlio / orfano 1 | G38: Figlio / orfano 2 | H38: Figlio / orfano 3 | I38: Figlio / orfano 4 | J38: Figlio / orfano 5
B39: Linea B (max 1.500,00 € per ogni figlio) | C39: Diritto allo studio e sviluppo del capitale umano (spese scolastiche, spese universitarie) | E39: =SUM(F39:J39) -> 0
C40: Tutela della salute e benessere psicofisico (spese per visite medichee supporto psicologico) | E40: =SUM(F40:J40) -> 0
C41: Inclusione educativa e culturale e sociale e pieno sviluppo personale (spese per attività formative culturali e/o artistiche) | E41: =SUM(F41:J41) -> 0
C42: Totali Linea B | E42: =SUM(E39:E41) -> 0 | F42: =SUM(F39:F41) -> 0 | G42: =SUM(G39:G41) -> 0 | H42: =SUM(H39:H41) -> 0 | I42: =SUM(I39:I41) -> 0 | J42: =SUM(J39:J41) -> 0
B43: Totali Linee A1, A2, B: | E43: =E37+E38+E42 -> 0
C44: La/il richiedente | G44: Il Rappresentante Legale del CAV/CA/CR/Ambito
C45: _________________________________________ | G45: _________________________________________

Sheet Foglio2
A1: Legale rappresentante | B1: =Foglio1!H6 -> Codice Fiscale | C1: ENTE | D1: Centro Antiviolenza | E1: Denominazione Centro | F1: Casa accoglienza | G1: Denominazione Casa accoglienza | H1: Accred. Ambito Territ. | I1: Ambito Territoriale | J1: Provvedimento A.T. | K1: Gestito Ambito Territ. | L1: Ambito Territoriale | M1: Nominativo donna | N1: Nata a | O1: Nata il
A2: =IF(Foglio1!D6="","",Foglio1!D6) | B2: =IF(Foglio1!I6="","",Foglio1!I6) | C2: =E2 | D2: =Foglio1!B8 -> FALSE | E2: =IF(Foglio1!E8="","",Foglio1!E8) | F2: =Foglio1!B10 -> FALSE | G2: =IF(Foglio1!E10="","",Foglio1!E10) | H2: =Foglio1!B12 -> FALSE | I2: =IF(Foglio1!E12="","",Foglio1!E12) | J2: =IF(Foglio1!H12="","",Foglio1!H12) | K2: =Foglio1!B14 -> FALSE | L2: =IF(Foglio1!E14="","",Foglio1!E14) | M2: =IF(Foglio1!C18="","",Foglio1!C18) | N2: =IF(Foglio1!F18="","",Foglio1!F18) | O2: =Foglio1!J18 -> 0
